BEGIN:VCALENDAR
VERSION:2.0
PRODID:-//Eclipse Perfomance Arts - ECPv6.15.17.1//NONSGML v1.0//EN
CALSCALE:GREGORIAN
METHOD:PUBLISH
X-ORIGINAL-URL:https://eclipseperformancearts.co.uk
X-WR-CALDESC:Events for Eclipse Perfomance Arts
REFRESH-INTERVAL;VALUE=DURATION:PT1H
X-Robots-Tag:noindex
X-PUBLISHED-TTL:PT1H
BEGIN:VTIMEZONE
TZID:UTC
BEGIN:STANDARD
TZOFFSETFROM:+0000
TZOFFSETTO:+0000
TZNAME:UTC
DTSTART:20230101T000000
END:STANDARD
END:VTIMEZONE
BEGIN:VEVENT
DTSTART;VALUE=DATE:20240406
DTEND;VALUE=DATE:20240407
DTSTAMP:20260421T100555
CREATED:20231107T100849Z
LAST-MODIFIED:20231107T100849Z
UID:224674-1712361600-1712447999@eclipseperformancearts.co.uk
SUMMARY:Classes recommence
DESCRIPTION:
URL:https://eclipseperformancearts.co.uk/event/classes-recommence-2/
LOCATION:Leicestershire
CATEGORIES:Classes
END:VEVENT
END:VCALENDAR